BEGIN:VCALENDAR
VERSION:2.0
PRODID:-//Windy Hills Winery - ECPv4.9.14//NONSGML v1.0//EN
CALSCALE:GREGORIAN
METHOD:PUBLISH
X-WR-CALNAME:Windy Hills Winery
X-ORIGINAL-URL:http://windyhillswinery.com
X-WR-CALDESC:Events for Windy Hills Winery
BEGIN:VTIMEZONE
TZID:America/Los_Angeles
BEGIN:DAYLIGHT
TZOFFSETFROM:-0800
TZOFFSETTO:-0700
TZNAME:PDT
DTSTART:20210314T100000
END:DAYLIGHT
BEGIN:STANDARD
TZOFFSETFROM:-0700
TZOFFSETTO:-0800
TZNAME:PST
DTSTART:20211107T090000
END:STANDARD
END:VTIMEZONE
BEGIN:VEVENT
DTSTART;TZID=America/Los_Angeles:20210703T170000
DTEND;TZID=America/Los_Angeles:20210703T200000
DTSTAMP:20260424T162611
CREATED:20210413T182200Z
LAST-MODIFIED:20210413T182200Z
UID:1149-1625331600-1625342400@windyhillswinery.com
SUMMARY:LIVE MUSIC - Cellar Rats 5-8pm
DESCRIPTION:Back by popular demand the Cellar Rats will be playing at Windy Hills from 5-8pm! The band will be setup outside in the tent space and there will be indoor and outdoor seating available. Feel free to bring your own blanket and sit out on the grass. Food and drinks will be available for purchase. All ages are welcome children must be supervised at all times. \n
URL:http://windyhillswinery.com/event/live-music-cellar-rats-5-8pm/
ATTACH;FMTTYPE=image/jpeg:http://windyhillswinery.com/wp-content/uploads/2020/01/Les-Cellar-Rats.jpg
END:VEVENT
END:VCALENDAR