BEGIN:VCALENDAR
VERSION:2.0
PRODID:-//Windy Hills Winery - ECPv4.9.14//NONSGML v1.0//EN
CALSCALE:GREGORIAN
METHOD:PUBLISH
X-WR-CALNAME:Windy Hills Winery
X-ORIGINAL-URL:http://windyhillswinery.com
X-WR-CALDESC:Events for Windy Hills Winery
BEGIN:VTIMEZONE
TZID:America/Los_Angeles
BEGIN:DAYLIGHT
TZOFFSETFROM:-0800
TZOFFSETTO:-0700
TZNAME:PDT
DTSTART:20240310T100000
END:DAYLIGHT
BEGIN:STANDARD
TZOFFSETFROM:-0700
TZOFFSETTO:-0800
TZNAME:PST
DTSTART:20241103T090000
END:STANDARD
END:VTIMEZONE
BEGIN:VEVENT
DTSTART;TZID=America/Los_Angeles:20240921T180000
DTEND;TZID=America/Los_Angeles:20240921T210000
DTSTAMP:20260426T013419
CREATED:20240830T143615Z
LAST-MODIFIED:20240830T143634Z
UID:2105-1726941600-1726952400@windyhillswinery.com
SUMMARY:Under the Stars - Starcycle Fundraiser
DESCRIPTION:Outdoor ride & Community Event with STARCYCLE FELIDA! \nWHEN : Saturday September 21st – 6:30pm or 7:30pm \nWHAT: Outdoor ride/raffle/community event benefiting the Pink Lemonade Project \nCOST: $85 Includes ride\, swag bag\, 1 complimentary beer/wine\, access to raffle/winery \n*Registration is required! \n
URL:http://windyhillswinery.com/event/under-the-stars-starcycle-fundraiser/
END:VEVENT
END:VCALENDAR