BEGIN:VCALENDAR
VERSION:2.0
PRODID:-//Windy Hills Winery - ECPv4.9.14//NONSGML v1.0//EN
CALSCALE:GREGORIAN
METHOD:PUBLISH
X-WR-CALNAME:Windy Hills Winery
X-ORIGINAL-URL:http://windyhillswinery.com
X-WR-CALDESC:Events for Windy Hills Winery
BEGIN:VTIMEZONE
TZID:America/Los_Angeles
BEGIN:DAYLIGHT
TZOFFSETFROM:-0800
TZOFFSETTO:-0700
TZNAME:PDT
DTSTART:20260308T100000
END:DAYLIGHT
BEGIN:STANDARD
TZOFFSETFROM:-0700
TZOFFSETTO:-0800
TZNAME:PST
DTSTART:20261101T090000
END:STANDARD
END:VTIMEZONE
BEGIN:VEVENT
DTSTART;TZID=America/Los_Angeles:20260327T170000
DTEND;TZID=America/Los_Angeles:20260327T200000
DTSTAMP:20260422T124103
CREATED:20260224T222159Z
LAST-MODIFIED:20260224T222159Z
UID:2372-1774630800-1774641600@windyhillswinery.com
SUMMARY:Sip & Support RHS Grad Night 2026!
DESCRIPTION:Whether you are a parent\, guardian\, family friend\, future-senior parent\, or someone who simply wants to support local students – you’re invited! \nConnect with other families\, get senior-year reminders\, and enjoy a community night out! \n20% of Winy Hills sales will be donated to Grad night! Come support a local small business and your graduating class of 2026! \nCome ready to bid\, there will be a silent auction! \n
URL:http://windyhillswinery.com/event/sip-support-rhs-grad-night-2026/
ATTACH;FMTTYPE=image/png:http://windyhillswinery.com/wp-content/uploads/2026/02/Sip-and-Support-Post-Save-Date.png
END:VEVENT
END:VCALENDAR