BEGIN:VCALENDAR
VERSION:2.0
PRODID:-//Windy Hills Winery - ECPv4.9.14//NONSGML v1.0//EN
CALSCALE:GREGORIAN
METHOD:PUBLISH
X-WR-CALNAME:Windy Hills Winery
X-ORIGINAL-URL:http://windyhillswinery.com
X-WR-CALDESC:Events for Windy Hills Winery
BEGIN:VTIMEZONE
TZID:America/Los_Angeles
BEGIN:DAYLIGHT
TZOFFSETFROM:-0800
TZOFFSETTO:-0700
TZNAME:PDT
DTSTART:20250309T100000
END:DAYLIGHT
BEGIN:STANDARD
TZOFFSETFROM:-0700
TZOFFSETTO:-0800
TZNAME:PST
DTSTART:20251102T090000
END:STANDARD
END:VTIMEZONE
BEGIN:VEVENT
DTSTART;TZID=America/Los_Angeles:20250709T170000
DTEND;TZID=America/Los_Angeles:20250709T190000
DTSTAMP:20260426T035816
CREATED:20240627T043029Z
LAST-MODIFIED:20250130T235817Z
UID:2071-1752080400-1752087600@windyhillswinery.com
SUMMARY:Ridgefield Raptors Local Wine Night!
DESCRIPTION:Join us up at the RORC for a local wine night at the Ridgefield Raptors game presented by the Ridgefield Chamber of Commerce.  More information and ticket link coming soon! \n  \n
URL:http://windyhillswinery.com/event/ridgefield-raptors-local-wine-night/
END:VEVENT
END:VCALENDAR