BEGIN:VCALENDAR
VERSION:2.0
PRODID:-//Windy Hills Winery - ECPv4.9.14//NONSGML v1.0//EN
CALSCALE:GREGORIAN
METHOD:PUBLISH
X-WR-CALNAME:Windy Hills Winery
X-ORIGINAL-URL:http://windyhillswinery.com
X-WR-CALDESC:Events for Windy Hills Winery
BEGIN:VTIMEZONE
TZID:America/Los_Angeles
BEGIN:DAYLIGHT
TZOFFSETFROM:-0800
TZOFFSETTO:-0700
TZNAME:PDT
DTSTART:20260308T100000
END:DAYLIGHT
BEGIN:STANDARD
TZOFFSETFROM:-0700
TZOFFSETTO:-0800
TZNAME:PST
DTSTART:20261101T090000
END:STANDARD
END:VTIMEZONE
BEGIN:VEVENT
DTSTART;TZID=America/Los_Angeles:20260130T183000
DTEND;TZID=America/Los_Angeles:20260130T203000
DTSTAMP:20260423T101917
CREATED:20260102T191647Z
LAST-MODIFIED:20260102T191647Z
UID:2340-1769797800-1769805000@windyhillswinery.com
SUMMARY:Private Event - Tasting Room Closes @ 6pm
DESCRIPTION:Windy Hills Winery and tasting room will be OPEN to the public from 3-6pm. Seating may be limited due to event setup after 5pm\, kitchen will close at 5pm. \n
URL:http://windyhillswinery.com/event/private-event-tasting-room-closes-6pm-23/
ATTACH;FMTTYPE=image/png:http://windyhillswinery.com/wp-content/uploads/2023/10/private-event4-large.png
END:VEVENT
END:VCALENDAR