BEGIN:VCALENDAR
VERSION:2.0
PRODID:-//Windy Hills Winery - ECPv4.9.14//NONSGML v1.0//EN
CALSCALE:GREGORIAN
METHOD:PUBLISH
X-WR-CALNAME:Windy Hills Winery
X-ORIGINAL-URL:http://windyhillswinery.com
X-WR-CALDESC:Events for Windy Hills Winery
BEGIN:VTIMEZONE
TZID:America/Los_Angeles
BEGIN:DAYLIGHT
TZOFFSETFROM:-0800
TZOFFSETTO:-0700
TZNAME:PDT
DTSTART:20250309T100000
END:DAYLIGHT
BEGIN:STANDARD
TZOFFSETFROM:-0700
TZOFFSETTO:-0800
TZNAME:PST
DTSTART:20251102T090000
END:STANDARD
END:VTIMEZONE
BEGIN:VEVENT
DTSTART;TZID=America/Los_Angeles:20250405T183000
DTEND;TZID=America/Los_Angeles:20250405T213000
DTSTAMP:20260424T204937
CREATED:20250102T234436Z
LAST-MODIFIED:20250102T234436Z
UID:2149-1743877800-1743888600@windyhillswinery.com
SUMMARY:Private Event - Tasting Room Closes @ 6pm
DESCRIPTION:Windy Hills Winery and tasting room will be OPEN to the public from 12-6pm. Our kitchen will close at 5pm to prepare for our private event that evening. \n
URL:http://windyhillswinery.com/event/private-event-tasting-room-closes-6pm-19/
ATTACH;FMTTYPE=image/png:http://windyhillswinery.com/wp-content/uploads/2023/10/private-event4-large.png
END:VEVENT
END:VCALENDAR