BEGIN:VCALENDAR
VERSION:2.0
PRODID:-//Windy Hills Winery - ECPv4.9.14//NONSGML v1.0//EN
CALSCALE:GREGORIAN
METHOD:PUBLISH
X-WR-CALNAME:Windy Hills Winery
X-ORIGINAL-URL:http://windyhillswinery.com
X-WR-CALDESC:Events for Windy Hills Winery
BEGIN:VTIMEZONE
TZID:America/Los_Angeles
BEGIN:DAYLIGHT
TZOFFSETFROM:-0800
TZOFFSETTO:-0700
TZNAME:PDT
DTSTART:20260308T100000
END:DAYLIGHT
BEGIN:STANDARD
TZOFFSETFROM:-0700
TZOFFSETTO:-0800
TZNAME:PST
DTSTART:20261101T090000
END:STANDARD
END:VTIMEZONE
BEGIN:VEVENT
DTSTART;VALUE=DATE:20260417
DTEND;VALUE=DATE:20260418
DTSTAMP:20260422T093035
CREATED:20260413T200808Z
LAST-MODIFIED:20260413T200808Z
UID:2433-1776384000-1776470399@windyhillswinery.com
SUMMARY:Private Event - Tasting Room CLOSED!
DESCRIPTION:Windy Hills Winery and tasting room will be CLOSED on Friday April 17th for a private event. \n
URL:http://windyhillswinery.com/event/private-event-tasting-room-closed-27/
ATTACH;FMTTYPE=image/png:http://windyhillswinery.com/wp-content/uploads/2024/02/TASTINGROOMCLOSED-2.png
END:VEVENT
END:VCALENDAR