BEGIN:VCALENDAR
VERSION:2.0
PRODID:-//Windy Hills Winery - ECPv4.9.14//NONSGML v1.0//EN
CALSCALE:GREGORIAN
METHOD:PUBLISH
X-WR-CALNAME:Windy Hills Winery
X-ORIGINAL-URL:http://windyhillswinery.com
X-WR-CALDESC:Events for Windy Hills Winery
BEGIN:VTIMEZONE
TZID:America/Los_Angeles
BEGIN:DAYLIGHT
TZOFFSETFROM:-0800
TZOFFSETTO:-0700
TZNAME:PDT
DTSTART:20250309T100000
END:DAYLIGHT
BEGIN:STANDARD
TZOFFSETFROM:-0700
TZOFFSETTO:-0800
TZNAME:PST
DTSTART:20251102T090000
END:STANDARD
END:VTIMEZONE
BEGIN:VEVENT
DTSTART;VALUE=DATE:20251203
DTEND;VALUE=DATE:20251204
DTSTAMP:20260423T214747
CREATED:20251103T205926Z
LAST-MODIFIED:20251103T205926Z
UID:2315-1764720000-1764806399@windyhillswinery.com
SUMMARY:Private Event
DESCRIPTION:Windy Hills Winery is CLOSED for a private event. \n
URL:http://windyhillswinery.com/event/private-event-37/
ATTACH;FMTTYPE=image/png:http://windyhillswinery.com/wp-content/uploads/2023/10/private-event4-large.png
END:VEVENT
END:VCALENDAR