BEGIN:VCALENDAR
VERSION:2.0
PRODID:-//Windy Hills Winery - ECPv4.9.14//NONSGML v1.0//EN
CALSCALE:GREGORIAN
METHOD:PUBLISH
X-WR-CALNAME:Windy Hills Winery
X-ORIGINAL-URL:http://windyhillswinery.com
X-WR-CALDESC:Events for Windy Hills Winery
BEGIN:VTIMEZONE
TZID:America/Los_Angeles
BEGIN:DAYLIGHT
TZOFFSETFROM:-0800
TZOFFSETTO:-0700
TZNAME:PDT
DTSTART:20260308T100000
END:DAYLIGHT
BEGIN:STANDARD
TZOFFSETFROM:-0700
TZOFFSETTO:-0800
TZNAME:PST
DTSTART:20261101T090000
END:STANDARD
END:VTIMEZONE
BEGIN:VEVENT
DTSTART;TZID=America/Los_Angeles:20260227T160000
DTEND;TZID=America/Los_Angeles:20260227T190000
DTSTAMP:20260422T172401
CREATED:20260227T202138Z
LAST-MODIFIED:20260227T202138Z
UID:2375-1772208000-1772218800@windyhillswinery.com
SUMMARY:OPENING LATE - Tasting Room Opens at 4pm!
DESCRIPTION:Windy Hills tasting room will be OPEN from 4-7pm on Friday\, February 27th. Our staff will be attending a memorial service so we will be opening a little later than normal. \n  \n  \n
URL:http://windyhillswinery.com/event/opening-late-tasting-room-opens-at-4pm/
END:VEVENT
END:VCALENDAR