BEGIN:VCALENDAR
VERSION:2.0
PRODID:-//Windy Hills Winery - ECPv4.9.14//NONSGML v1.0//EN
CALSCALE:GREGORIAN
METHOD:PUBLISH
X-WR-CALNAME:Windy Hills Winery
X-ORIGINAL-URL:http://windyhillswinery.com
X-WR-CALDESC:Events for Windy Hills Winery
BEGIN:VTIMEZONE
TZID:America/Los_Angeles
BEGIN:DAYLIGHT
TZOFFSETFROM:-0800
TZOFFSETTO:-0700
TZNAME:PDT
DTSTART:20250309T100000
END:DAYLIGHT
BEGIN:STANDARD
TZOFFSETFROM:-0700
TZOFFSETTO:-0800
TZNAME:PST
DTSTART:20251102T090000
END:STANDARD
END:VTIMEZONE
BEGIN:VEVENT
DTSTART;TZID=America/Los_Angeles:20250301T140000
DTEND;TZID=America/Los_Angeles:20250301T160000
DTSTAMP:20260424T162556
CREATED:20240320T213543Z
LAST-MODIFIED:20250102T233925Z
UID:2004-1740837600-1740844800@windyhillswinery.com
SUMMARY:Live Music - Tom Mann 2-4pm
DESCRIPTION:Local musician Tom Mann will be playing at Windy Hills Winery on Saturday afternoon. Tom has an amazing voice and covers everyones favorite 90’s country songs! \nAs always all ages are welcome\, no cover charge\, food and drinks will be available for purchase. Music will be played inside the main room. \n
URL:http://windyhillswinery.com/event/live-music-tom-mann-2-4pm/
ATTACH;FMTTYPE=image/jpeg:http://windyhillswinery.com/wp-content/uploads/2022/01/Tom-Mann.jpeg
END:VEVENT
END:VCALENDAR