BEGIN:VCALENDAR
VERSION:2.0
PRODID:-//Windy Hills Winery - ECPv4.9.14//NONSGML v1.0//EN
CALSCALE:GREGORIAN
METHOD:PUBLISH
X-WR-CALNAME:Windy Hills Winery
X-ORIGINAL-URL:http://windyhillswinery.com
X-WR-CALDESC:Events for Windy Hills Winery
BEGIN:VTIMEZONE
TZID:America/Los_Angeles
BEGIN:DAYLIGHT
TZOFFSETFROM:-0800
TZOFFSETTO:-0700
TZNAME:PDT
DTSTART:20250309T100000
END:DAYLIGHT
BEGIN:STANDARD
TZOFFSETFROM:-0700
TZOFFSETTO:-0800
TZNAME:PST
DTSTART:20251102T090000
END:STANDARD
END:VTIMEZONE
BEGIN:VEVENT
DTSTART;TZID=America/Los_Angeles:20250208T140000
DTEND;TZID=America/Los_Angeles:20250208T160000
DTSTAMP:20260424T204906
CREATED:20250102T222150Z
LAST-MODIFIED:20250102T222444Z
UID:2138-1739023200-1739030400@windyhillswinery.com
SUMMARY:Live Music - The Tide 2-4pm
DESCRIPTION:Saturday afternoon we are excited to have Portland based musical duo ‘The Tide’ playing at Windy Hills! “Songs for the soul\, heart and for life.” \nAs always all ages are welcome\, no cover charge\, food and drinks will be available for purchase. \n
URL:http://windyhillswinery.com/event/live-music-the-tide-2-4pm-2/
ATTACH;FMTTYPE=image/jpeg:http://windyhillswinery.com/wp-content/uploads/2024/03/Unknown.jpeg
END:VEVENT
END:VCALENDAR