BEGIN:VCALENDAR
VERSION:2.0
PRODID:-//Windy Hills Winery - ECPv4.9.14//NONSGML v1.0//EN
CALSCALE:GREGORIAN
METHOD:PUBLISH
X-WR-CALNAME:Windy Hills Winery
X-ORIGINAL-URL:http://windyhillswinery.com
X-WR-CALDESC:Events for Windy Hills Winery
BEGIN:VTIMEZONE
TZID:America/Los_Angeles
BEGIN:DAYLIGHT
TZOFFSETFROM:-0800
TZOFFSETTO:-0700
TZNAME:PDT
DTSTART:20240310T100000
END:DAYLIGHT
BEGIN:STANDARD
TZOFFSETFROM:-0700
TZOFFSETTO:-0800
TZNAME:PST
DTSTART:20241103T090000
END:STANDARD
END:VTIMEZONE
BEGIN:VEVENT
DTSTART;TZID=America/Los_Angeles:20241006T140000
DTEND;TZID=America/Los_Angeles:20241006T160000
DTSTAMP:20260425T185627
CREATED:20230928T175606Z
LAST-MODIFIED:20240827T145922Z
UID:1843-1728223200-1728230400@windyhillswinery.com
SUMMARY:Live Music - Evergreen Chill  2-4pm
DESCRIPTION:Come listen to local musical duo Evergreen Chill play at Windy Hills Sunday afternoon from 2-4pm. Chrissy Lynn & Justin Lee perform coffee house versions of your favorite hits from the last 5 decades! \nAs always no cover charge\, all ages are welcome\, food and drinks available for purchase. Music will be inside the main building. \n
URL:http://windyhillswinery.com/event/live-music-raeann-phillips-2-4pm-2/
END:VEVENT
END:VCALENDAR