BEGIN:VCALENDAR
VERSION:2.0
PRODID:-//Windy Hills Winery - ECPv4.9.14//NONSGML v1.0//EN
CALSCALE:GREGORIAN
METHOD:PUBLISH
X-WR-CALNAME:Windy Hills Winery
X-ORIGINAL-URL:http://windyhillswinery.com
X-WR-CALDESC:Events for Windy Hills Winery
BEGIN:VTIMEZONE
TZID:America/Los_Angeles
BEGIN:DAYLIGHT
TZOFFSETFROM:-0800
TZOFFSETTO:-0700
TZNAME:PDT
DTSTART:20250309T100000
END:DAYLIGHT
BEGIN:STANDARD
TZOFFSETFROM:-0700
TZOFFSETTO:-0800
TZNAME:PST
DTSTART:20251102T090000
END:STANDARD
END:VTIMEZONE
BEGIN:VEVENT
DTSTART;TZID=America/Los_Angeles:20250629T140000
DTEND;TZID=America/Los_Angeles:20250629T160000
DTSTAMP:20260425T221416
CREATED:20250327T182337Z
LAST-MODIFIED:20250327T182337Z
UID:2245-1751205600-1751212800@windyhillswinery.com
SUMMARY:Live Music - Paul Herman Duo 2-4pm
DESCRIPTION:Come spend your Sunday afternoon with us and local musician Paul Herman alongside his bandmate Dave! Paul and Dave create a relaxing vibe and we know if will be a great afternoon with them here. \nAs always no cover charge\, all ages are welcome\, food and drink will be available for purchase. \n  \n
URL:http://windyhillswinery.com/event/live-music-paul-herman-duo-2-4pm/
ATTACH;FMTTYPE=image/jpeg:http://windyhillswinery.com/wp-content/uploads/2021/04/Paul-herman.jpeg
END:VEVENT
END:VCALENDAR