BEGIN:VCALENDAR
VERSION:2.0
PRODID:-//Windy Hills Winery - ECPv4.9.14//NONSGML v1.0//EN
CALSCALE:GREGORIAN
METHOD:PUBLISH
X-WR-CALNAME:Windy Hills Winery
X-ORIGINAL-URL:http://windyhillswinery.com
X-WR-CALDESC:Events for Windy Hills Winery
BEGIN:VTIMEZONE
TZID:America/Los_Angeles
BEGIN:DAYLIGHT
TZOFFSETFROM:-0800
TZOFFSETTO:-0700
TZNAME:PDT
DTSTART:20240310T100000
END:DAYLIGHT
BEGIN:STANDARD
TZOFFSETFROM:-0700
TZOFFSETTO:-0800
TZNAME:PST
DTSTART:20241103T090000
END:STANDARD
END:VTIMEZONE
BEGIN:VEVENT
DTSTART;TZID=America/Los_Angeles:20241103T140000
DTEND;TZID=America/Los_Angeles:20241103T160000
DTSTAMP:20260425T123135
CREATED:20230421T140522Z
LAST-MODIFIED:20240827T150838Z
UID:1773-1730642400-1730649600@windyhillswinery.com
SUMMARY:Live Music - Avi Haviv 2-4pm
DESCRIPTION:Local musician Avi Haviv will be playing at Windy Hills Winery from 2-4pm! No cover charge\, all ages welcome\, food and drink will be available for purchase. Music will be played inside the main building. \n
URL:http://windyhillswinery.com/event/live-music-avi-haviv-2-4pm-10/
END:VEVENT
END:VCALENDAR