BEGIN:VCALENDAR
VERSION:2.0
PRODID:-//Windy Hills Winery - ECPv4.9.14//NONSGML v1.0//EN
CALSCALE:GREGORIAN
METHOD:PUBLISH
X-WR-CALNAME:Windy Hills Winery
X-ORIGINAL-URL:http://windyhillswinery.com
X-WR-CALDESC:Events for Windy Hills Winery
BEGIN:VTIMEZONE
TZID:America/Los_Angeles
BEGIN:DAYLIGHT
TZOFFSETFROM:-0800
TZOFFSETTO:-0700
TZNAME:PDT
DTSTART:20260308T100000
END:DAYLIGHT
BEGIN:STANDARD
TZOFFSETFROM:-0700
TZOFFSETTO:-0800
TZNAME:PST
DTSTART:20261101T090000
END:STANDARD
END:VTIMEZONE
BEGIN:VEVENT
DTSTART;VALUE=DATE:20260405
DTEND;VALUE=DATE:20260406
DTSTAMP:20260422T092704
CREATED:20200625T154544Z
LAST-MODIFIED:20250923T223106Z
UID:1089-1775347200-1775433599@windyhillswinery.com
SUMMARY:Happy Easter - Winery CLOSED!
DESCRIPTION:Happy Easter to you and your family! Windy Hills Winery will be CLOSED Easter Sunday! \n
URL:http://windyhillswinery.com/event/happy-easter-winery-closed/
ATTACH;FMTTYPE=image/jpeg:http://windyhillswinery.com/wp-content/uploads/2019/01/Easter.jpg
END:VEVENT
END:VCALENDAR