BEGIN:VCALENDAR
VERSION:2.0
PRODID:-//Windy Hills Winery - ECPv4.9.14//NONSGML v1.0//EN
CALSCALE:GREGORIAN
METHOD:PUBLISH
X-WR-CALNAME:Windy Hills Winery
X-ORIGINAL-URL:http://windyhillswinery.com
X-WR-CALDESC:Events for Windy Hills Winery
BEGIN:VTIMEZONE
TZID:America/Los_Angeles
BEGIN:DAYLIGHT
TZOFFSETFROM:-0800
TZOFFSETTO:-0700
TZNAME:PDT
DTSTART:20250309T100000
END:DAYLIGHT
BEGIN:STANDARD
TZOFFSETFROM:-0700
TZOFFSETTO:-0800
TZNAME:PST
DTSTART:20251102T090000
END:STANDARD
END:VTIMEZONE
BEGIN:VEVENT
DTSTART;TZID=America/Los_Angeles:20250426T130000
DTEND;TZID=America/Los_Angeles:20250426T150000
DTSTAMP:20260425T021931
CREATED:20250327T174713Z
LAST-MODIFIED:20250408T214936Z
UID:2228-1745672400-1745679600@windyhillswinery.com
SUMMARY:DIY Suncatchers Class 1-3pm
DESCRIPTION:✨ Our DIY Sun Catcher Class has been such a hit! \nCome tap into your creativity and craft a beautiful sun catcher to brighten your windows and your spirit. Whether you’re joining solo or bringing a friend\, this hands-on class is all about good vibes\, connection\, and a little sparkle. \nSpots are limited-don’t wait to sign up! \nDate & Time: \nSaturday 4/26 At Windy Hills Winery 1-3pm \n  \nPLEASE ASSURE THE TITLE MATCHES THE LOCATION YOU WOULD LIKE TO ATTEND \nAll materials are provided\, and no experience is needed. \nLet’s make something magical together-again! \n
URL:http://windyhillswinery.com/event/diy-suncatchers-class-1-3pm/
END:VEVENT
END:VCALENDAR