BEGIN:VCALENDAR
VERSION:2.0
PRODID:-//Windy Hills Winery - ECPv4.9.14//NONSGML v1.0//EN
CALSCALE:GREGORIAN
METHOD:PUBLISH
X-WR-CALNAME:Windy Hills Winery
X-ORIGINAL-URL:http://windyhillswinery.com
X-WR-CALDESC:Events for Windy Hills Winery
BEGIN:VTIMEZONE
TZID:America/Los_Angeles
BEGIN:DAYLIGHT
TZOFFSETFROM:-0800
TZOFFSETTO:-0700
TZNAME:PDT
DTSTART:20260308T100000
END:DAYLIGHT
BEGIN:STANDARD
TZOFFSETFROM:-0700
TZOFFSETTO:-0800
TZNAME:PST
DTSTART:20261101T090000
END:STANDARD
END:VTIMEZONE
BEGIN:VEVENT
DTSTART;VALUE=DATE:20260405
DTEND;VALUE=DATE:20260411
DTSTAMP:20260422T093526
CREATED:20250102T234144Z
LAST-MODIFIED:20251103T210830Z
UID:2147-1775347200-1775865599@windyhillswinery.com
SUMMARY:CLOSED - SPRING BREAK!
DESCRIPTION:Windy Hills Winery and tasting room will be CLOSED April 5\, 2026 – April 10\, 2026. \n
URL:http://windyhillswinery.com/event/closed-spring-break/
ATTACH;FMTTYPE=image/jpeg:http://windyhillswinery.com/wp-content/uploads/2020/06/spring-break.jpeg
END:VEVENT
END:VCALENDAR