BEGIN:VCALENDAR
VERSION:2.0
PRODID:-//Windy Hills Winery - ECPv4.9.14//NONSGML v1.0//EN
CALSCALE:GREGORIAN
METHOD:PUBLISH
X-WR-CALNAME:Windy Hills Winery
X-ORIGINAL-URL:http://windyhillswinery.com
X-WR-CALDESC:Events for Windy Hills Winery
BEGIN:VTIMEZONE
TZID:America/Los_Angeles
BEGIN:DAYLIGHT
TZOFFSETFROM:-0800
TZOFFSETTO:-0700
TZNAME:PDT
DTSTART:20250309T100000
END:DAYLIGHT
BEGIN:STANDARD
TZOFFSETFROM:-0700
TZOFFSETTO:-0800
TZNAME:PST
DTSTART:20251102T090000
END:STANDARD
END:VTIMEZONE
BEGIN:VEVENT
DTSTART;VALUE=DATE:20250704
DTEND;VALUE=DATE:20250705
DTSTAMP:20260426T011537
CREATED:20210413T182357Z
LAST-MODIFIED:20250327T183020Z
UID:1151-1751587200-1751673599@windyhillswinery.com
SUMMARY:CLOSED - INDEPENDENCE DAY!
DESCRIPTION:Windy Hills Winery and tasting room will be CLOSED all day on 7/4/2025. GOD BLESS AMERICA! \nTasting Room will be OPEN Saturday 7/5/25 from 12-6pm and Sunday 7/6/25 from 12-5pm. \n
URL:http://windyhillswinery.com/event/closed-independance-day/
ATTACH;FMTTYPE=image/jpeg:http://windyhillswinery.com/wp-content/uploads/2019/08/4th-July.jpg
END:VEVENT
END:VCALENDAR