BEGIN:VCALENDAR
VERSION:2.0
PRODID:-//Windy Hills Winery - ECPv4.9.14//NONSGML v1.0//EN
CALSCALE:GREGORIAN
METHOD:PUBLISH
X-WR-CALNAME:Windy Hills Winery
X-ORIGINAL-URL:http://windyhillswinery.com
X-WR-CALDESC:Events for Windy Hills Winery
BEGIN:VTIMEZONE
TZID:America/Los_Angeles
BEGIN:DAYLIGHT
TZOFFSETFROM:-0800
TZOFFSETTO:-0700
TZNAME:PDT
DTSTART:20250309T100000
END:DAYLIGHT
BEGIN:STANDARD
TZOFFSETFROM:-0700
TZOFFSETTO:-0800
TZNAME:PST
DTSTART:20251102T090000
END:STANDARD
BEGIN:DAYLIGHT
TZOFFSETFROM:-0800
TZOFFSETTO:-0700
TZNAME:PDT
DTSTART:20260308T100000
END:DAYLIGHT
BEGIN:STANDARD
TZOFFSETFROM:-0700
TZOFFSETTO:-0800
TZNAME:PST
DTSTART:20261101T090000
END:STANDARD
END:VTIMEZONE
BEGIN:VEVENT
DTSTART;VALUE=DATE:20251222
DTEND;VALUE=DATE:20260105
DTSTAMP:20260423T155739
CREATED:20241112T235140Z
LAST-MODIFIED:20251219T204227Z
UID:2119-1766361600-1767571199@windyhillswinery.com
SUMMARY:Christmas Break - Winery Closed!
DESCRIPTION:Windy Hills Winery will be CLOSED December 22\, 2025 through January 4\, 2026 to enjoy time with our families and friends. \n
URL:http://windyhillswinery.com/event/christmas-break-winery-closed/
ATTACH;FMTTYPE=image/png:http://windyhillswinery.com/wp-content/uploads/2019/02/winter.png
END:VEVENT
END:VCALENDAR