BEGIN:VCALENDAR
VERSION:2.0
PRODID:-//Windy Hills Winery - ECPv4.9.14//NONSGML v1.0//EN
CALSCALE:GREGORIAN
METHOD:PUBLISH
X-WR-CALNAME:Windy Hills Winery
X-ORIGINAL-URL:http://windyhillswinery.com
X-WR-CALDESC:Events for Windy Hills Winery
BEGIN:VTIMEZONE
TZID:America/Los_Angeles
BEGIN:DAYLIGHT
TZOFFSETFROM:-0800
TZOFFSETTO:-0700
TZNAME:PDT
DTSTART:20250309T100000
END:DAYLIGHT
BEGIN:STANDARD
TZOFFSETFROM:-0700
TZOFFSETTO:-0800
TZNAME:PST
DTSTART:20251102T090000
END:STANDARD
END:VTIMEZONE
BEGIN:VEVENT
DTSTART;TZID=America/Los_Angeles:20250412T140000
DTEND;TZID=America/Los_Angeles:20250412T170000
DTSTAMP:20260424T232613
CREATED:20250327T172743Z
LAST-MODIFIED:20250327T172743Z
UID:2217-1744466400-1744477200@windyhillswinery.com
SUMMARY:Bob is Retiring\, come say farewell!
DESCRIPTION:Our winemaker\, neighbor\, and friend has decided its time to throw in the towel and enjoy retirement! Stop by between 2-5pm and congratulate Bob enjoy some light snacks\,  music by the Jazz group Route 66\, and of course some cake! \nALL SPUDDERS CREST wines will be $5! That’s right $5 per Spudders Crest glass\, $5 for a Spudders Crest tasting flight\, and $5 per Spudders Crest botttle! \nSpudder Crest branded wines include a large variety of Pinot Noirs\, Cherry Wine\, Blackberry Wine\, O!Naturelle\, and Dolcetto. \n*Windy Hills branded wine will not be on sale. \n
URL:http://windyhillswinery.com/event/bob-is-retiring-come-say-farewell/
END:VEVENT
END:VCALENDAR