BEGIN:VCALENDAR
VERSION:2.0
PRODID:-//Windy Hills Winery - ECPv4.9.14//NONSGML v1.0//EN
CALSCALE:GREGORIAN
METHOD:PUBLISH
X-WR-CALNAME:Windy Hills Winery
X-ORIGINAL-URL:http://windyhillswinery.com
X-WR-CALDESC:Events for Windy Hills Winery
BEGIN:VTIMEZONE
TZID:America/Los_Angeles
BEGIN:DAYLIGHT
TZOFFSETFROM:-0800
TZOFFSETTO:-0700
TZNAME:PDT
DTSTART:20260308T100000
END:DAYLIGHT
BEGIN:STANDARD
TZOFFSETFROM:-0700
TZOFFSETTO:-0800
TZNAME:PST
DTSTART:20261101T090000
END:STANDARD
END:VTIMEZONE
BEGIN:VEVENT
DTSTART;TZID=America/Los_Angeles:20260126T180000
DTEND;TZID=America/Los_Angeles:20260126T200000
DTSTAMP:20260423T115510
CREATED:20220708T061303Z
LAST-MODIFIED:20250923T222941Z
UID:1569-1769450400-1769457600@windyhillswinery.com
SUMMARY:100 Women Who Care Event 6-8PM
DESCRIPTION:100 Women Who Care SW Washington is a group of ladies who care about our community and want to make a HUGE impact. We meet once quarterly and hear about the great work of three LOCAL charities\, and then choose the one who needs our help the most. Members vote and the charity with the most votes walks away with a $100 check from every member. \n100 Women x 100 Dollars = $10\,000…That is HUGE! \n100 Women Who Care is able to instantly help the chosen charity with $10\,000! \nWe hope you will join the 100 Women movement. Ask about becoming a member today! \n
URL:http://windyhillswinery.com/event/100-women-who-care-event/
ATTACH;FMTTYPE=image/png:http://windyhillswinery.com/wp-content/uploads/2022/07/100womensww-logo.png
END:VEVENT
END:VCALENDAR